BEGIN:VCALENDAR
VERSION:2.0
PRODID:-//KulturDietikon - ECPv6.15.20//NONSGML v1.0//EN
CALSCALE:GREGORIAN
METHOD:PUBLISH
X-WR-CALNAME:KulturDietikon
X-ORIGINAL-URL:https://kulturdietikon.ch
X-WR-CALDESC:Veranstaltungen im KulturDietikon
REFRESH-INTERVAL;VALUE=DURATION:PT1H
X-Robots-Tag:noindex
X-PUBLISHED-TTL:PT1H
BEGIN:VTIMEZONE
TZID:Europe/Zurich
BEGIN:DAYLIGHT
TZOFFSETFROM:+0100
TZOFFSETTO:+0200
TZNAME:CEST
DTSTART:20250330T010000
END:DAYLIGHT
BEGIN:STANDARD
TZOFFSETFROM:+0200
TZOFFSETTO:+0100
TZNAME:CET
DTSTART:20251026T010000
END:STANDARD
BEGIN:DAYLIGHT
TZOFFSETFROM:+0100
TZOFFSETTO:+0200
TZNAME:CEST
DTSTART:20260329T010000
END:DAYLIGHT
BEGIN:STANDARD
TZOFFSETFROM:+0200
TZOFFSETTO:+0100
TZNAME:CET
DTSTART:20261025T010000
END:STANDARD
BEGIN:DAYLIGHT
TZOFFSETFROM:+0100
TZOFFSETTO:+0200
TZNAME:CEST
DTSTART:20270328T010000
END:DAYLIGHT
BEGIN:STANDARD
TZOFFSETFROM:+0200
TZOFFSETTO:+0100
TZNAME:CET
DTSTART:20271031T010000
END:STANDARD
END:VTIMEZONE
BEGIN:VEVENT
DTSTART;VALUE=DATE:20260423
DTEND;VALUE=DATE:20260424
DTSTAMP:20260421T101000
CREATED:20260121T172943Z
LAST-MODIFIED:20260306T082904Z
UID:10000857-1776902400-1776988799@kulturdietikon.ch
SUMMARY:Strickkaffi im Gleis 21
DESCRIPTION:Start: Do.\, 23 Apr. 2026 14:00  \n \nTreffen und gemeinsames stricken\, bring deine Strickarbeit mit. \nGemütliches Zusammensein\, plaudern\, Austausch von Ideen\, Tipps\, Tricks\, Wolle usw. \num 14:00 Uhr\, im Gleis 21 Bistro – Lounge\, Buchsackerstrasse 21\, 8953 Dietikon\, 044 545 87 22 \n\nDirektlink zum Gleis 21: https://gleis21.ch/events/strickkaffi-im-gleis-21-16/  
URL:https://kulturdietikon.ch/event/__trashed-71/
LOCATION:Kulturhaus Gleis 21\, Buchsackerstrasse 21\, Dietikon\, 8953\, Schweiz
ATTACH;FMTTYPE=image/jpeg:https://kulturdietikon.ch/wp-content/uploads/2026/01/2601-06_strickkaffi-A3-212x300-106.jpg
END:VEVENT
BEGIN:VEVENT
DTSTART;TZID=Europe/Zurich:20260424T201500
DTEND;TZID=Europe/Zurich:20260424T201500
DTSTAMP:20260421T101001
CREATED:20260312T030150Z
LAST-MODIFIED:20260312T030150Z
UID:10000784-1777061700-1777061700@kulturdietikon.ch
SUMMARY:AMBÄCK
DESCRIPTION:Zehntenscheune\nKronenplatz 11\n8953 Dietikon \nDer musikalische Ausbruch ist längst gelungen. Nun geht es nicht mehr um Distanznahme von Althergebrachtem – AMBÄCK vertiefen sich weiter in ihre selbst geschaffene Dimension\, die den ganzen Raum zwischen Boden und Wolken zu umspannen weiss. \nBisweilen sind wir näher am musikalischen Nährboden der drei Innerschweizer\, wie zum Beispiel in den beiden «Stöpsel»\, aber ganz sicher können wir nie sein\, dass wir nicht plötzlich in den Wolken landen: In «Birbäumli» etwa wähnen wir uns gerade noch in einem uralten Volkslied\, wo uns Örgeli\, Geige und Kontrabass in melancholischem Dreiklang eine ewig gültige Sage erzählen\, und urplötzlich galoppieren wir in wechselhaften Rhythmen davon. Das Webmuster des AMBÄCKschen Klangteppichs ist also noch versponnener\, und dennoch legen wir uns gerne darauf und geniessen den manchmal wilden\, manchmal sanft wogenden musikalischen Wellenritt. Dies liegt an der technischen und virtuosen Brillanz des Trios um Andreas Gabriel (Geige)\, Pirmin Huber (Kontrabass) und Markus Flückiger (Schwyzerörgeli): Wir wissen zwar nicht\, wohin es uns da verschlägt\, aber wir haben vollstes Vertrauen: Es ist ein guter Ort\, irgendwo dort zwischen Boden und Wolken. \nReinhören: Ambäck – YouTubeExterner Link wird in einem neuen Fenster geöffnet. \n\nKontakt\nKultur Dietikon\nIrene Brioschi\nIrene.brioschi@dietikon.ch\nhttps://Kulturdietikon.ch \n\nInformationen\nPreis   \nNormal: 35fr  \nErmässigt (AHV\,IV\, Student:in): 25fr \nGratis mit Kultur GA: 0fr \nOnline Tickets kaufen: Vorverkauf Dietikon – TicketparkExterner Link wird in einem neuen Fenster geöffnet. \nAnmeldung\nVoraussetzungen  \nDokumente
URL:https://kulturdietikon.ch/event/ambaeck/
LOCATION:Zürich
ATTACH;FMTTYPE=image/jpeg:https://kulturdietikon.ch/wp-content/uploads/2025/12/unnamed-file-17.jpeg
END:VEVENT
BEGIN:VEVENT
DTSTART;VALUE=DATE:20260427
DTEND;VALUE=DATE:20260428
DTSTAMP:20260421T101001
CREATED:20260121T172943Z
LAST-MODIFIED:20260121T173142Z
UID:10000812-1777248000-1777334399@kulturdietikon.ch
SUMMARY:Bigband Montag mit der SMZ Big Band
DESCRIPTION:Start: Mo.\, 27 Apr. 2026 19:45  Für alle Jazzliebhaber und Musikbegeisterten öffnet die SMZ Big Band an Montagen auch im 2025\, die Türen inklusive Bar vom Gleis 21. \nErleben Sie Themenkonzerte\, die die legendären Arrangements von Größen wie Count Basie\, Sammy Nestico und Dalibor Brazda zum Leben erwecken. Tauchen Sie ein in die Welt des Jazz und genießen Sie mitreißende Melodien in einer einstündigen Performance. Die SMZ Big Band verspricht musikalische Exzellenz und eine begeisternde Atmosphäre. Verpassen Sie nicht die Gelegenheit\, sich von den virtuosen Klängen dieser talentierten Formation aus Dietikon mitreißen zu lassen. Seien Sie dabei und erleben Sie unvergessliche Konzertabende im Gleis 21! \n \n\n\n\nDirektlink zum Gleis 21: https://gleis21.ch/events/bigband-montag-mit-der-smz-big-band-16/\n\n 
URL:https://kulturdietikon.ch/event/bigband-montag-mit-der-smz-big-band-2/
LOCATION:Kulturhaus Gleis 21\, Buchsackerstrasse 21\, Dietikon\, 8953\, Schweiz
ATTACH;FMTTYPE=image/jpeg:https://kulturdietikon.ch/wp-content/uploads/2026/01/2601-06_smz-A3-212x300-39.jpg
END:VEVENT
BEGIN:VEVENT
DTSTART;VALUE=DATE:20260429
DTEND;VALUE=DATE:20260430
DTSTAMP:20260421T101001
CREATED:20260121T172943Z
LAST-MODIFIED:20260121T172950Z
UID:10000800-1777420800-1777507199@kulturdietikon.ch
SUMMARY:Tryout – Helga Schneider mit «Ich Weiss»
DESCRIPTION:Start: Mi.\, 29 Apr. 2026 20:15   \nNeues Soloprogramm ab Frühling 2026 – Comedy ganz in Weiss – mit schwarzem Humor und altklugen Weisheiten \nHelga Schneider teilt noch einmal kräftig aus: Mit ihrer Frauenpower\, Stimmgewalt und Bühnenpräsenz bringt sie ihr Publikum in ihrem 6. Soloprogramm wieder zum Lachen. Auch mit 60 ist Helga längst nicht K.o.! Sie verteilt mit ihrer Schlagfertigkeit verbale Kinnhaken in alle Richtungen. \nNach bald 40 Jahren Showbusiness in den Knochen und mit 1965 im Pass fragt sie sich\, wann ist fertig lustig? Ist das Verbrauchsdatum zum Greifen nahe\, sollte man beginnen\, die Alterspubertät auszuleben. Schneeweiss und (k)ein bisschen weiser\, will Helga es noch einmal wissen: Wäre es nicht höchste Zeit für eine Hochzeit ganz in Weiss? Denn Weiss ist ein buntes Feuerwerk\, ein spektrales Ereignis aus Rot-Grün-Blau und keineswegs unbunt\, wie die Wissenschaft behauptet. Helga ist zwar eher rot und grün\, aber auch gerne mal blau. Die Natur lebt es uns vor: Nach der Blüte kommt die Frucht! Und reife Früchte sollte man nicht spritzen\, sondern ernten! \nAktuelle Tourdaten unter:  www.helgaschneider.ch   \n\nDirektlink zum Gleis 21: https://gleis21.ch/events/tryout-helga-schneider-mit-ich-weiss-2/ \n 
URL:https://kulturdietikon.ch/event/tryout-helga-schneider-mit-ich-weiss/
LOCATION:Kulturhaus Gleis 21\, Buchsackerstrasse 21\, Dietikon\, 8953\, Schweiz
ATTACH;FMTTYPE=image/jpeg:https://kulturdietikon.ch/wp-content/uploads/2026/01/HS_IchWeiss_1080x1080px_72ppi_e1_2-300x300-19.jpg
END:VEVENT
BEGIN:VEVENT
DTSTART;VALUE=DATE:20260430
DTEND;VALUE=DATE:20260501
DTSTAMP:20260421T101001
CREATED:20260121T172943Z
LAST-MODIFIED:20260121T173341Z
UID:10000830-1777507200-1777593599@kulturdietikon.ch
SUMMARY:Tryout – Helga Schneider mit «Ich Weiss»
DESCRIPTION:Start: Do.\, 30 Apr. 2026 20:15   \nNeues Soloprogramm ab Frühling 2026 – Comedy ganz in Weiss – mit schwarzem Humor und altklugen Weisheiten \nHelga Schneider teilt noch einmal kräftig aus: Mit ihrer Frauenpower\, Stimmgewalt und Bühnenpräsenz bringt sie ihr Publikum in ihrem 6. Soloprogramm wieder zum Lachen. Auch mit 60 ist Helga längst nicht K.o.! Sie verteilt mit ihrer Schlagfertigkeit verbale Kinnhaken in alle Richtungen. \nNach bald 40 Jahren Showbusiness in den Knochen und mit 1965 im Pass fragt sie sich\, wann ist fertig lustig? Ist das Verbrauchsdatum zum Greifen nahe\, sollte man beginnen\, die Alterspubertät auszuleben. Schneeweiss und (k)ein bisschen weiser\, will Helga es noch einmal wissen: Wäre es nicht höchste Zeit für eine Hochzeit ganz in Weiss? Denn Weiss ist ein buntes Feuerwerk\, ein spektrales Ereignis aus Rot-Grün-Blau und keineswegs unbunt\, wie die Wissenschaft behauptet. Helga ist zwar eher rot und grün\, aber auch gerne mal blau. Die Natur lebt es uns vor: Nach der Blüte kommt die Frucht! Und reife Früchte sollte man nicht spritzen\, sondern ernten! \nAktuelle Tourdaten unter:  www.helgaschneider.ch   \n\nDirektlink zum Gleis 21: https://gleis21.ch/events/tryout-helga-schneider-mit-ich-weiss/ \n 
URL:https://kulturdietikon.ch/event/tryout-helga-schneider-mit-ich-weiss-2/
LOCATION:Kulturhaus Gleis 21\, Buchsackerstrasse 21\, Dietikon\, 8953\, Schweiz
ATTACH;FMTTYPE=image/jpeg:https://kulturdietikon.ch/wp-content/uploads/2026/01/HS_IchWeiss_1080x1080px_72ppi_e1_2-300x300-20.jpg
END:VEVENT
END:VCALENDAR